BEGIN:VCALENDAR
VERSION:2.0
PRODID:-//MoreDirt v1.0//EN
BEGIN:VEVENT
DTSTAMP:20150730T130000Z
ORGANIZER;CN=Thredbo Mountain:MAILTO:
STATUS:CONFIRMED
UID:MORESPORTSNETWORK4446
DTSTART:20201213T080000+0000
DTEND:20201213T120000+0000
SUMMARY:Thredbo Gravity Series - Snowgums Sprint
DESCRIPTION:Thredbo Gravity Series - Snowgums Sprint - more details: https://www.moredirt.com/event/4446
X-ALT-DESC;FMTTYPE=text/html:Thredbo Gravity Series - Snowgums Sprint - more details: https://www.moredirt.com/event/4446
LOCATION:
END:VEVENT
END:VCALENDAR