BEGIN:VCALENDAR
VERSION:2.0
PRODID:-//MoreDirt v1.0//EN
BEGIN:VEVENT
DTSTAMP:20150730T130000Z
ORGANIZER;CN=Hart Hills:MAILTO:
STATUS:CONFIRMED
UID:MORESPORTSNETWORK4445
DTSTART:20210410T080000Z
DTEND:20210410T120000Z
SUMMARY:Hart Hills Gravel Bike Race
DESCRIPTION:Hart Hills Gravel Bike Race - more details: https://www.moredirt.com/event/4445
X-ALT-DESC;FMTTYPE=text/html:Hart Hills Gravel Bike Race - more details: https://www.moredirt.com/event/4445
LOCATION:
END:VEVENT
END:VCALENDAR