BEGIN:VCALENDAR
VERSION:2.0
PRODID:-//MoreDirt v1.0//EN
BEGIN:VEVENT
DTSTAMP:20150730T130000Z
ORGANIZER;CN=Andover Supercross:MAILTO:
STATUS:CONFIRMED
UID:MORESPORTSNETWORK4441
DTSTART:20201220T080000+0000
DTEND:20201220T120000+0000
SUMMARY:Andover Supercross
DESCRIPTION:Andover Supercross - more details: https://www.moredirt.com/event/4441
X-ALT-DESC;FMTTYPE=text/html:Andover Supercross - more details: https://www.moredirt.com/event/4441
LOCATION:
END:VEVENT
END:VCALENDAR