BEGIN:VCALENDAR
VERSION:2.0
PRODID:-//MoreDirt v1.0//EN
BEGIN:VEVENT
DTSTAMP:20150730T130000Z
ORGANIZER;CN=Specialized:MAILTO:
STATUS:CONFIRMED
UID:MORESPORTSNETWORK4430
DTSTART:20201105T080000+0000
DTEND:20201105T120000+0000
SUMMARY:Specialized Turbo Levo SL Ride Experience - Surrey Hills
DESCRIPTION:Specialized Turbo Levo SL Ride Experience - Surrey Hills - more details: https://www.moredirt.com/event/4430
X-ALT-DESC;FMTTYPE=text/html:Specialized Turbo Levo SL Ride Experience - Surrey Hills - more details: https://www.moredirt.com/event/4430
LOCATION:
END:VEVENT
END:VCALENDAR