BEGIN:VCALENDAR
VERSION:2.0
PRODID:-//MoreDirt v1.0//EN
BEGIN:VEVENT
DTSTAMP:20150730T130000Z
ORGANIZER;CN=Rat Race Adventure Sports:MAILTO:
STATUS:CONFIRMED
UID:MORESPORTSNETWORK4429
DTSTART:20210723T080000Z
DTEND:20210725T120000Z
SUMMARY:Rat Race The Crossing 2021
DESCRIPTION:Rat Race The Crossing 2021 - more details: https://www.moredirt.com/event/4429
X-ALT-DESC;FMTTYPE=text/html:Rat Race The Crossing 2021 - more details: https://www.moredirt.com/event/4429
LOCATION:
END:VEVENT
END:VCALENDAR