BEGIN:VCALENDAR
VERSION:2.0
PRODID:-//MoreDirt v1.0//EN
BEGIN:VEVENT
DTSTAMP:20150730T130000Z
ORGANIZER;CN=RaceAwesome INC.:MAILTO:
STATUS:CONFIRMED
UID:MORESPORTSNETWORK4417
DTSTART:20211016T080000Z
DTEND:20211017T120000Z
SUMMARY:Muddy Tire MTB Race 2021
DESCRIPTION:Muddy Tire MTB Race 2021 - more details: https://www.moredirt.com/event/4417
X-ALT-DESC;FMTTYPE=text/html:Muddy Tire MTB Race 2021 - more details: https://www.moredirt.com/event/4417
LOCATION:
END:VEVENT
END:VCALENDAR