BEGIN:VCALENDAR
VERSION:2.0
PRODID:-//MoreDirt v1.0//EN
BEGIN:VEVENT
DTSTAMP:20150730T130000Z
ORGANIZER;CN=Ben Tisdall:MAILTO:
STATUS:CONFIRMED
UID:MORESPORTSNETWORK4411
DTSTART:20210829T080000Z
DTEND:20210829T120000Z
SUMMARY:Devon Grit 2021
DESCRIPTION:Devon Grit 2021 - more details: https://www.moredirt.com/event/4411
X-ALT-DESC;FMTTYPE=text/html:Devon Grit 2021 - more details: https://www.moredirt.com/event/4411
LOCATION:
END:VEVENT
END:VCALENDAR