BEGIN:VCALENDAR
VERSION:2.0
PRODID:-//MoreDirt v1.0//EN
BEGIN:VEVENT
DTSTAMP:20150730T130000Z
ORGANIZER;CN=Ridge Rider Racing, LLC.:MAILTO:
STATUS:CONFIRMED
UID:MORESPORTSNETWORK4408
DTSTART:20210313T080000+0000
DTEND:20210313T120000+0000
SUMMARY:28 Below Fatbike Race/Ride/Tour
DESCRIPTION:28 Below Fatbike Race/Ride/Tour - more details: https://www.moredirt.com/event/4408
X-ALT-DESC;FMTTYPE=text/html:28 Below Fatbike Race/Ride/Tour - more details: https://www.moredirt.com/event/4408
LOCATION:
END:VEVENT
END:VCALENDAR