BEGIN:VCALENDAR
VERSION:2.0
PRODID:-//MoreDirt v1.0//EN
BEGIN:VEVENT
DTSTAMP:20150730T130000Z
ORGANIZER;CN=Bike Park Kernow:MAILTO:
STATUS:CONFIRMED
UID:MORESPORTSNETWORK4403
DTSTART:20201206T080000+0000
DTEND:20201206T120000+0000
SUMMARY:Bike Park Kernow Winter Series
DESCRIPTION:Bike Park Kernow Winter Series - more details: https://www.moredirt.com/event/4403
X-ALT-DESC;FMTTYPE=text/html:Bike Park Kernow Winter Series - more details: https://www.moredirt.com/event/4403
LOCATION:
END:VEVENT
END:VCALENDAR