BEGIN:VCALENDAR
VERSION:2.0
PRODID:-//MoreDirt v1.0//EN
BEGIN:VEVENT
DTSTAMP:20150730T130000Z
ORGANIZER;CN=Peak Races:MAILTO:
STATUS:CONFIRMED
UID:MORESPORTSNETWORK4402
DTSTART:20210925T080000Z
DTEND:20210925T120000Z
SUMMARY:Woodsplitter 6 Hour MTB Race
DESCRIPTION:Woodsplitter 6 Hour MTB Race - more details: https://www.moredirt.com/event/4402
X-ALT-DESC;FMTTYPE=text/html:Woodsplitter 6 Hour MTB Race - more details: https://www.moredirt.com/event/4402
LOCATION:
END:VEVENT
END:VCALENDAR