BEGIN:VCALENDAR
VERSION:2.0
PRODID:-//MoreDirt v1.0//EN
BEGIN:VEVENT
DTSTAMP:20150730T130000Z
ORGANIZER;CN=Dirty Chain:MAILTO:
STATUS:CONFIRMED
UID:MORESPORTSNETWORK4401
DTSTART:20210206T080000+0000
DTEND:20210206T120000+0000
SUMMARY:Winter's Fat Classic 2021
DESCRIPTION:Winter's Fat Classic 2021 - more details: https://www.moredirt.com/event/4401
X-ALT-DESC;FMTTYPE=text/html:Winter's Fat Classic 2021 - more details: https://www.moredirt.com/event/4401
LOCATION:
END:VEVENT
END:VCALENDAR