BEGIN:VCALENDAR
VERSION:2.0
PRODID:-//MoreDirt v1.0//EN
BEGIN:VEVENT
DTSTAMP:20150730T130000Z
ORGANIZER;CN=Heart Smart Events, LLC:MAILTO:
STATUS:CONFIRMED
UID:MORESPORTSNETWORK4400
DTSTART:20210124T080000+0000
DTEND:20210124T120000+0000
SUMMARY:Frosted Fat Tire 2021
DESCRIPTION:Frosted Fat Tire 2021 - more details: https://www.moredirt.com/event/4400
X-ALT-DESC;FMTTYPE=text/html:Frosted Fat Tire 2021 - more details: https://www.moredirt.com/event/4400
LOCATION:
END:VEVENT
END:VCALENDAR