BEGIN:VCALENDAR
VERSION:2.0
PRODID:-//MoreDirt v1.0//EN
BEGIN:VEVENT
DTSTAMP:20150730T130000Z
ORGANIZER;CN=Freeride Madeira:MAILTO:
STATUS:CONFIRMED
UID:MORESPORTSNETWORK4394
DTSTART:20210601T080000Z
DTEND:20210605T120000Z
SUMMARY:Trans Madeira 2021
DESCRIPTION:Trans Madeira 2021 - more details: https://www.moredirt.com/event/4394
X-ALT-DESC;FMTTYPE=text/html:Trans Madeira 2021 - more details: https://www.moredirt.com/event/4394
LOCATION:
END:VEVENT
END:VCALENDAR