BEGIN:VCALENDAR
VERSION:2.0
PRODID:-//MoreDirt v1.0//EN
BEGIN:VEVENT
DTSTAMP:20150730T130000Z
ORGANIZER;CN=Advocate Cycling Productions:MAILTO:
STATUS:CONFIRMED
UID:MORESPORTSNETWORK4386
DTSTART:20210508T080000Z
DTEND:20210508T120000Z
SUMMARY:Hungry Bear 100
DESCRIPTION:Hungry Bear 100 - more details: https://www.moredirt.com/event/4386
X-ALT-DESC;FMTTYPE=text/html:Hungry Bear 100 - more details: https://www.moredirt.com/event/4386
LOCATION:
END:VEVENT
END:VCALENDAR