BEGIN:VCALENDAR
VERSION:2.0
PRODID:-//MoreDirt v1.0//EN
BEGIN:VEVENT
DTSTAMP:20150730T130000Z
ORGANIZER;CN=Youphoria Productions:MAILTO:
STATUS:CONFIRMED
UID:MORESPORTSNETWORK4381
DTSTART:20201107T080000+0000
DTEND:20201107T120000+0000
SUMMARY:Austin Rattler MTB
DESCRIPTION:Austin Rattler MTB - more details: https://www.moredirt.com/event/4381
X-ALT-DESC;FMTTYPE=text/html:Austin Rattler MTB - more details: https://www.moredirt.com/event/4381
LOCATION:
END:VEVENT
END:VCALENDAR