BEGIN:VCALENDAR
VERSION:2.0
PRODID:-//MoreDirt v1.0//EN
BEGIN:VEVENT
DTSTAMP:20150730T130000Z
ORGANIZER;CN=Trans-Sylvania Productions:MAILTO:
STATUS:CONFIRMED
UID:MORESPORTSNETWORK4374
DTSTART:20210525T080000Z
DTEND:20210529T120000Z
SUMMARY:Trans-Sylvania Mountain Bike Epic - 10th Edition
DESCRIPTION:Trans-Sylvania Mountain Bike Epic - 10th Edition - more details: https://www.moredirt.com/event/4374
X-ALT-DESC;FMTTYPE=text/html:Trans-Sylvania Mountain Bike Epic - 10th Edition - more details: https://www.moredirt.com/event/4374
LOCATION:
END:VEVENT
END:VCALENDAR