BEGIN:VCALENDAR
VERSION:2.0
PRODID:-//MoreDirt v1.0//EN
BEGIN:VEVENT
DTSTAMP:20150730T130000Z
ORGANIZER;CN=Trans-Sylvania Productions:MAILTO:
STATUS:CONFIRMED
UID:MORESPORTSNETWORK4372
DTSTART:20201003T080000Z
DTEND:20201003T120000Z
SUMMARY:Wood Run MTB Race
DESCRIPTION:Wood Run MTB Race - more details: https://www.moredirt.com/event/4372
X-ALT-DESC;FMTTYPE=text/html:Wood Run MTB Race - more details: https://www.moredirt.com/event/4372
LOCATION:
END:VEVENT
END:VCALENDAR