BEGIN:VCALENDAR
VERSION:2.0
PRODID:-//MoreDirt v1.0//EN
BEGIN:VEVENT
DTSTAMP:20150730T130000Z
ORGANIZER;CN=Mid Atlantic Super Series:MAILTO:
STATUS:CONFIRMED
UID:MORESPORTSNETWORK4371
DTSTART:20201115T080000+0000
DTEND:20201115T120000+0000
SUMMARY:Winter is Coming Enduro
DESCRIPTION:Winter is Coming Enduro - more details: https://www.moredirt.com/event/4371
X-ALT-DESC;FMTTYPE=text/html:Winter is Coming Enduro - more details: https://www.moredirt.com/event/4371
LOCATION:
END:VEVENT
END:VCALENDAR