BEGIN:VCALENDAR
VERSION:2.0
PRODID:-//MoreDirt v1.0//EN
BEGIN:VEVENT
DTSTAMP:20150730T130000Z
ORGANIZER;CN=Chequamegon Area Mountain Bike Association:MAILTO:
STATUS:CONFIRMED
UID:MORESPORTSNETWORK4367
DTSTART:20210514T080000Z
DTEND:20210516T120000Z
SUMMARY:Mt. Ashwabay Women's Weekend
DESCRIPTION:Mt. Ashwabay Women's Weekend - more details: https://www.moredirt.com/event/4367
X-ALT-DESC;FMTTYPE=text/html:Mt. Ashwabay Women's Weekend - more details: https://www.moredirt.com/event/4367
LOCATION:
END:VEVENT
END:VCALENDAR