BEGIN:VCALENDAR
VERSION:2.0
PRODID:-//MoreDirt v1.0//EN
BEGIN:VEVENT
DTSTAMP:20150730T130000Z
ORGANIZER;CN=Channel UK Events CIC:MAILTO:
STATUS:CONFIRMED
UID:MORESPORTSNETWORK4362
DTSTART:20210612T080000Z
DTEND:20210612T120000Z
SUMMARY:Mendip Murmuration 2021
DESCRIPTION:Mendip Murmuration 2021 - more details: https://www.moredirt.com/event/4362
X-ALT-DESC;FMTTYPE=text/html:Mendip Murmuration 2021 - more details: https://www.moredirt.com/event/4362
LOCATION:
END:VEVENT
END:VCALENDAR