BEGIN:VCALENDAR
VERSION:2.0
PRODID:-//MoreDirt v1.0//EN
BEGIN:VEVENT
DTSTAMP:20150730T130000Z
ORGANIZER;CN=TransRockies Singletrack 6:MAILTO:
STATUS:CONFIRMED
UID:MORESPORTSNETWORK4354
DTSTART:20210907T080000Z
DTEND:20210912T120000Z
SUMMARY:TransRockies Singletrack 6 2021
DESCRIPTION:TransRockies Singletrack 6 2021 - more details: https://www.moredirt.com/event/4354
X-ALT-DESC;FMTTYPE=text/html:TransRockies Singletrack 6 2021 - more details: https://www.moredirt.com/event/4354
LOCATION:
END:VEVENT
END:VCALENDAR