BEGIN:VCALENDAR
VERSION:2.0
PRODID:-//MoreDirt v1.0//EN
BEGIN:VEVENT
DTSTAMP:20150730T130000Z
ORGANIZER;CN=Peninsula Adventure Sports:MAILTO:
STATUS:CONFIRMED
UID:MORESPORTSNETWORK4348
DTSTART:20210626T080000Z
DTEND:20210626T120000Z
SUMMARY:Gravel Unravel 2021
DESCRIPTION:Gravel Unravel 2021 - more details: https://www.moredirt.com/event/4348
X-ALT-DESC;FMTTYPE=text/html:Gravel Unravel 2021 - more details: https://www.moredirt.com/event/4348
LOCATION:
END:VEVENT
END:VCALENDAR