BEGIN:VCALENDAR
VERSION:2.0
PRODID:-//MoreDirt v1.0//EN
BEGIN:VEVENT
DTSTAMP:20150730T130000Z
ORGANIZER;CN=Dirt Dash CC:MAILTO:
STATUS:CONFIRMED
UID:MORESPORTSNETWORK4347
DTSTART:20210501T080000Z
DTEND:20210502T120000Z
SUMMARY:Wales Dirt Dash
DESCRIPTION:Wales Dirt Dash - more details: https://www.moredirt.com/event/4347
X-ALT-DESC;FMTTYPE=text/html:Wales Dirt Dash - more details: https://www.moredirt.com/event/4347
LOCATION:
END:VEVENT
END:VCALENDAR