BEGIN:VCALENDAR
VERSION:2.0
PRODID:-//MoreDirt v1.0//EN
BEGIN:VEVENT
DTSTAMP:20150730T130000Z
ORGANIZER;CN=Primal Challenges:MAILTO:
STATUS:CONFIRMED
UID:MORESPORTSNETWORK4341
DTSTART:20201010T080000Z
DTEND:20201010T120000Z
SUMMARY:Lakelander Gravel Grinder
DESCRIPTION:Lakelander Gravel Grinder - more details: https://www.moredirt.com/event/4341
X-ALT-DESC;FMTTYPE=text/html:Lakelander Gravel Grinder - more details: https://www.moredirt.com/event/4341
LOCATION:
END:VEVENT
END:VCALENDAR