BEGIN:VCALENDAR
VERSION:2.0
PRODID:-//MoreDirt v1.0//EN
BEGIN:VEVENT
DTSTAMP:20150730T130000Z
ORGANIZER;CN=Brownbacks:MAILTO:
STATUS:CONFIRMED
UID:MORESPORTSNETWORK433
DTSTART:20121014T080000Z
DTEND:20121014T120000Z
SUMMARY:Hope XC Race Series 2012 RD4
DESCRIPTION:Hope XC Race Series 2012 RD4 - more details: https://www.moredirt.com/event/433
X-ALT-DESC;FMTTYPE=text/html:Hope XC Race Series 2012 RD4 - more details: https://www.moredirt.com/event/433
LOCATION:
END:VEVENT
END:VCALENDAR