BEGIN:VCALENDAR
VERSION:2.0
PRODID:-//MoreDirt v1.0//EN
BEGIN:VEVENT
DTSTAMP:20150730T130000Z
ORGANIZER;CN=The Lumberjack 100:MAILTO:
STATUS:CONFIRMED
UID:MORESPORTSNETWORK4334
DTSTART:20210619T080000Z
DTEND:20210619T120000Z
SUMMARY:Lumberjack 100
DESCRIPTION:Lumberjack 100 - more details: https://www.moredirt.com/event/4334
X-ALT-DESC;FMTTYPE=text/html:Lumberjack 100 - more details: https://www.moredirt.com/event/4334
LOCATION:
END:VEVENT
END:VCALENDAR