BEGIN:VCALENDAR
VERSION:2.0
PRODID:-//MoreDirt v1.0//EN
BEGIN:VEVENT
DTSTAMP:20150730T130000Z
ORGANIZER;CN=Beast Clan Productions:MAILTO:
STATUS:CONFIRMED
UID:MORESPORTSNETWORK4324
DTSTART:20210508T080000Z
DTEND:20210509T120000Z
SUMMARY:Northern Berzerker 2021
DESCRIPTION:Northern Berzerker 2021 - more details: https://www.moredirt.com/event/4324
X-ALT-DESC;FMTTYPE=text/html:Northern Berzerker 2021 - more details: https://www.moredirt.com/event/4324
LOCATION:
END:VEVENT
END:VCALENDAR