BEGIN:VCALENDAR
VERSION:2.0
PRODID:-//MoreDirt v1.0//EN
BEGIN:VEVENT
DTSTAMP:20150730T130000Z
ORGANIZER;CN=Strathpuffer:MAILTO:
STATUS:CONFIRMED
UID:MORESPORTSNETWORK4323
DTSTART:20210116T080000+0000
DTEND:20210117T120000+0000
SUMMARY:Strathpuffer 24 MTB 2021
DESCRIPTION:Strathpuffer 24 MTB 2021 - more details: https://www.moredirt.com/event/4323
X-ALT-DESC;FMTTYPE=text/html:Strathpuffer 24 MTB 2021 - more details: https://www.moredirt.com/event/4323
LOCATION:
END:VEVENT
END:VCALENDAR