BEGIN:VCALENDAR
VERSION:2.0
PRODID:-//MoreDirt v1.0//EN
BEGIN:VEVENT
DTSTAMP:20150730T130000Z
ORGANIZER;CN=Coupar Angus Cycling Hub:MAILTO:
STATUS:CONFIRMED
UID:MORESPORTSNETWORK4322
DTSTART:20210626T080000Z
DTEND:20210627T120000Z
SUMMARY:Ballo Enduro 2021
DESCRIPTION:Ballo Enduro 2021 - more details: https://www.moredirt.com/event/4322
X-ALT-DESC;FMTTYPE=text/html:Ballo Enduro 2021 - more details: https://www.moredirt.com/event/4322
LOCATION:
END:VEVENT
END:VCALENDAR