BEGIN:VCALENDAR
VERSION:2.0
PRODID:-//MoreDirt v1.0//EN
BEGIN:VEVENT
DTSTAMP:20150730T130000Z
ORGANIZER;CN=Maydena Bikepark:MAILTO:
STATUS:CONFIRMED
UID:MORESPORTSNETWORK4319
DTSTART:20201004T080000Z
DTEND:20201004T120000Z
SUMMARY:MBP Spring Enduro Series - RD1
DESCRIPTION:MBP Spring Enduro Series - RD1 - more details: https://www.moredirt.com/event/4319
X-ALT-DESC;FMTTYPE=text/html:MBP Spring Enduro Series - RD1 - more details: https://www.moredirt.com/event/4319
LOCATION:
END:VEVENT
END:VCALENDAR