BEGIN:VCALENDAR
VERSION:2.0
PRODID:-//MoreDirt v1.0//EN
BEGIN:VEVENT
DTSTAMP:20150730T130000Z
ORGANIZER;CN=Descent Bike Parks:MAILTO:
STATUS:CONFIRMED
UID:MORESPORTSNETWORK4318
DTSTART:20200913T080000Z
DTEND:20200913T120000Z
SUMMARY:Bull Send 2020
DESCRIPTION:Bull Send 2020 - more details: https://www.moredirt.com/event/4318
X-ALT-DESC;FMTTYPE=text/html:Bull Send 2020 - more details: https://www.moredirt.com/event/4318
LOCATION:
END:VEVENT
END:VCALENDAR