BEGIN:VCALENDAR
VERSION:2.0
PRODID:-//MoreDirt v1.0//EN
BEGIN:VEVENT
DTSTAMP:20150730T130000Z
ORGANIZER;CN=Quench Cycles:MAILTO:
STATUS:CONFIRMED
UID:MORESPORTSNETWORK4296
DTSTART:20200627T080000Z
DTEND:20200628T120000Z
SUMMARY:Transition Demo Day
DESCRIPTION:Transition Demo Day - more details: https://www.moredirt.com/event/4296
X-ALT-DESC;FMTTYPE=text/html:Transition Demo Day - more details: https://www.moredirt.com/event/4296
LOCATION:
END:VEVENT
END:VCALENDAR