BEGIN:VCALENDAR
VERSION:2.0
PRODID:-//MoreDirt v1.0//EN
BEGIN:VEVENT
DTSTAMP:20150730T130000Z
ORGANIZER;CN=Pete Wilkin and Chip Rafferty:MAILTO:
STATUS:CONFIRMED
UID:MORESPORTSNETWORK4293
DTSTART:20210703T080000Z
DTEND:20210704T120000Z
SUMMARY:Boltby Bash Enduro 2021
DESCRIPTION:Boltby Bash Enduro 2021 - more details: https://www.moredirt.com/event/4293
X-ALT-DESC;FMTTYPE=text/html:Boltby Bash Enduro 2021 - more details: https://www.moredirt.com/event/4293
LOCATION:
END:VEVENT
END:VCALENDAR