BEGIN:VCALENDAR
VERSION:2.0
PRODID:-//MoreDirt v1.0//EN
BEGIN:VEVENT
DTSTAMP:20150730T130000Z
ORGANIZER;CN=The Sam Houghton Mountain Bike Challenge:MAILTO:
STATUS:CONFIRMED
UID:MORESPORTSNETWORK4290
DTSTART:20200601T080000Z
DTEND:20200630T120000Z
SUMMARY:Sam Houghton Virtual Two Hour Challenge
DESCRIPTION:Sam Houghton Virtual Two Hour Challenge - more details: https://www.moredirt.com/event/4290
X-ALT-DESC;FMTTYPE=text/html:Sam Houghton Virtual Two Hour Challenge - more details: https://www.moredirt.com/event/4290
LOCATION:
END:VEVENT
END:VCALENDAR