BEGIN:VCALENDAR
VERSION:2.0
PRODID:-//MoreDirt v1.0//EN
BEGIN:VEVENT
DTSTAMP:20150730T130000Z
ORGANIZER;CN=Offcamber Cycles:MAILTO:
STATUS:CONFIRMED
UID:MORESPORTSNETWORK4268
DTSTART:20200507T080000Z
DTEND:20200507T120000Z
SUMMARY:Offcamber Demo Day
DESCRIPTION:Offcamber Demo Day - more details: https://www.moredirt.com/event/4268
X-ALT-DESC;FMTTYPE=text/html:Offcamber Demo Day - more details: https://www.moredirt.com/event/4268
LOCATION:
END:VEVENT
END:VCALENDAR