BEGIN:VCALENDAR
VERSION:2.0
PRODID:-//MoreDirt v1.0//EN
BEGIN:VEVENT
DTSTAMP:20150730T130000Z
ORGANIZER;CN=RockinBikes:MAILTO:
STATUS:CONFIRMED
UID:MORESPORTSNETWORK4267
DTSTART:20200404T080000Z
DTEND:20200404T120000Z
SUMMARY:Santa Cruz, Scott and Orange Bikes Demo Day
DESCRIPTION:Santa Cruz, Scott and Orange Bikes Demo Day - more details: https://www.moredirt.com/event/4267
X-ALT-DESC;FMTTYPE=text/html:Santa Cruz, Scott and Orange Bikes Demo Day - more details: https://www.moredirt.com/event/4267
LOCATION:
END:VEVENT
END:VCALENDAR