BEGIN:VCALENDAR
VERSION:2.0
PRODID:-//MoreDirt v1.0//EN
BEGIN:VEVENT
DTSTAMP:20150730T130000Z
ORGANIZER;CN=PROPAIN Bikes:MAILTO:
STATUS:CONFIRMED
UID:MORESPORTSNETWORK4265
DTSTART:20200403T080000Z
DTEND:20200405T120000Z
SUMMARY:PROPAIN Bikes Road Show Demo 2020
DESCRIPTION:PROPAIN Bikes Road Show Demo 2020 - more details: https://www.moredirt.com/event/4265
X-ALT-DESC;FMTTYPE=text/html:PROPAIN Bikes Road Show Demo 2020 - more details: https://www.moredirt.com/event/4265
LOCATION:
END:VEVENT
END:VCALENDAR