BEGIN:VCALENDAR
VERSION:2.0
PRODID:-//MoreDirt v1.0//EN
BEGIN:VEVENT
DTSTAMP:20150730T130000Z
ORGANIZER;CN=River Dart Country Park:MAILTO:
STATUS:CONFIRMED
UID:MORESPORTSNETWORK4263
DTSTART:20200927T080000Z
DTEND:20200927T120000Z
SUMMARY:Dartmoor Bike Fest 2020
DESCRIPTION:Dartmoor Bike Fest 2020 - more details: https://www.moredirt.com/event/4263
X-ALT-DESC;FMTTYPE=text/html:Dartmoor Bike Fest 2020 - more details: https://www.moredirt.com/event/4263
LOCATION:
END:VEVENT
END:VCALENDAR