BEGIN:VCALENDAR
VERSION:2.0
PRODID:-//MoreDirt v1.0//EN
BEGIN:VEVENT
DTSTAMP:20150730T130000Z
ORGANIZER;CN=Trek Bicycle Wilmslow:MAILTO:
STATUS:CONFIRMED
UID:MORESPORTSNETWORK4261
DTSTART:20200319T080000+0000
DTEND:20200319T120000+0000
SUMMARY:MTB and EMTB Demo Day - Clayton Vale
DESCRIPTION:MTB and EMTB Demo Day - Clayton Vale - more details: https://www.moredirt.com/event/4261
X-ALT-DESC;FMTTYPE=text/html:MTB and EMTB Demo Day - Clayton Vale - more details: https://www.moredirt.com/event/4261
LOCATION:
END:VEVENT
END:VCALENDAR