BEGIN:VCALENDAR
VERSION:2.0
PRODID:-//MoreDirt v1.0//EN
BEGIN:VEVENT
DTSTAMP:20150730T130000Z
ORGANIZER;CN=Geometron Bikes:MAILTO:
STATUS:CONFIRMED
UID:MORESPORTSNETWORK4260
DTSTART:20200328T080000+0000
DTEND:20200328T120000+0000
SUMMARY:GeoMetron G1 Demo Day - Forest of Dean
DESCRIPTION:GeoMetron G1 Demo Day - Forest of Dean - more details: https://www.moredirt.com/event/4260
X-ALT-DESC;FMTTYPE=text/html:GeoMetron G1 Demo Day - Forest of Dean - more details: https://www.moredirt.com/event/4260
LOCATION:
END:VEVENT
END:VCALENDAR