BEGIN:VCALENDAR
VERSION:2.0
PRODID:-//MoreDirt v1.0//EN
BEGIN:VEVENT
DTSTAMP:20150730T130000Z
ORGANIZER;CN=On Yer Bike Cycles Ltd:MAILTO:
STATUS:CONFIRMED
UID:MORESPORTSNETWORK4259
DTSTART:20200419T080000Z
DTEND:20200419T120000Z
SUMMARY:On Yer Bike Cycles - Big Demo Day
DESCRIPTION:On Yer Bike Cycles - Big Demo Day - more details: https://www.moredirt.com/event/4259
X-ALT-DESC;FMTTYPE=text/html:On Yer Bike Cycles - Big Demo Day - more details: https://www.moredirt.com/event/4259
LOCATION:
END:VEVENT
END:VCALENDAR