BEGIN:VCALENDAR
VERSION:2.0
PRODID:-//MoreDirt v1.0//EN
BEGIN:VEVENT
DTSTAMP:20150730T130000Z
ORGANIZER;CN=Oneplanet Adventure:MAILTO:
STATUS:CONFIRMED
UID:MORESPORTSNETWORK4251
DTSTART:20200418T080000Z
DTEND:20200419T120000Z
SUMMARY:Oneplanet Adventure - Demo Weekend 2020
DESCRIPTION:Oneplanet Adventure - Demo Weekend 2020 - more details: https://www.moredirt.com/event/4251
X-ALT-DESC;FMTTYPE=text/html:Oneplanet Adventure - Demo Weekend 2020 - more details: https://www.moredirt.com/event/4251
LOCATION:
END:VEVENT
END:VCALENDAR