BEGIN:VCALENDAR
VERSION:2.0
PRODID:-//MoreDirt v1.0//EN
BEGIN:VEVENT
DTSTAMP:20150730T130000Z
ORGANIZER;CN=MAD Racing Colorado:MAILTO:
STATUS:CONFIRMED
UID:MORESPORTSNETWORK4242
DTSTART:20200509T080000Z
DTEND:20200510T120000Z
SUMMARY:Grand Enduro 2020
DESCRIPTION:Grand Enduro 2020 - more details: https://www.moredirt.com/event/4242
X-ALT-DESC;FMTTYPE=text/html:Grand Enduro 2020 - more details: https://www.moredirt.com/event/4242
LOCATION:
END:VEVENT
END:VCALENDAR