BEGIN:VCALENDAR
VERSION:2.0
PRODID:-//MoreDirt v1.0//EN
BEGIN:VEVENT
DTSTAMP:20150730T130000Z
ORGANIZER;CN=Bikeology:MAILTO:
STATUS:CONFIRMED
UID:MORESPORTSNETWORK4241
DTSTART:20200405T080000Z
DTEND:20200405T120000Z
SUMMARY:MTB Demo Day - Glencullen Adventure Park
DESCRIPTION:MTB Demo Day - Glencullen Adventure Park - more details: https://www.moredirt.com/event/4241
X-ALT-DESC;FMTTYPE=text/html:MTB Demo Day - Glencullen Adventure Park - more details: https://www.moredirt.com/event/4241
LOCATION:
END:VEVENT
END:VCALENDAR