BEGIN:VCALENDAR
VERSION:2.0
PRODID:-//MoreDirt v1.0//EN
BEGIN:VEVENT
DTSTAMP:20150730T130000Z
ORGANIZER;CN=Sutton Bank Bikes:MAILTO:
STATUS:CONFIRMED
UID:MORESPORTSNETWORK4236
DTSTART:20210926T080000Z
DTEND:20210926T120000Z
SUMMARY:Top of the Rock 2021
DESCRIPTION:Top of the Rock 2021 - more details: https://www.moredirt.com/event/4236
X-ALT-DESC;FMTTYPE=text/html:Top of the Rock 2021 - more details: https://www.moredirt.com/event/4236
LOCATION:
END:VEVENT
END:VCALENDAR