BEGIN:VCALENDAR
VERSION:2.0
PRODID:-//MoreDirt v1.0//EN
BEGIN:VEVENT
DTSTAMP:20150730T130000Z
ORGANIZER;CN=Life Adventure Ctr:MAILTO:
STATUS:CONFIRMED
UID:MORESPORTSNETWORK4235
DTSTART:20200829T080000Z
DTEND:20200830T120000Z
SUMMARY:Psycle 24
DESCRIPTION:Psycle 24 - more details: https://www.moredirt.com/event/4235
X-ALT-DESC;FMTTYPE=text/html:Psycle 24 - more details: https://www.moredirt.com/event/4235
LOCATION:
END:VEVENT
END:VCALENDAR