BEGIN:VCALENDAR
VERSION:2.0
PRODID:-//MoreDirt v1.0//EN
BEGIN:VEVENT
DTSTAMP:20150730T130000Z
ORGANIZER;CN=South West Kenda Enduro:MAILTO:
STATUS:CONFIRMED
UID:MORESPORTSNETWORK4224
DTSTART:20200920T080000Z
DTEND:20200920T120000Z
SUMMARY:South West Kenda Enduro RD1 - Triscombe
DESCRIPTION:South West Kenda Enduro RD1 - Triscombe - more details: https://www.moredirt.com/event/4224
X-ALT-DESC;FMTTYPE=text/html:South West Kenda Enduro RD1 - Triscombe - more details: https://www.moredirt.com/event/4224
LOCATION:
END:VEVENT
END:VCALENDAR