BEGIN:VCALENDAR
VERSION:2.0
PRODID:-//MoreDirt v1.0//EN
BEGIN:VEVENT
DTSTAMP:20150730T130000Z
ORGANIZER;CN=South West Kenda Enduro:MAILTO:
STATUS:CONFIRMED
UID:MORESPORTSNETWORK4223
DTSTART:20201018T080000Z
DTEND:20201018T120000Z
SUMMARY:South West Kenda Enduro RD2 - Grogley Woods
DESCRIPTION:South West Kenda Enduro RD2 - Grogley Woods - more details: https://www.moredirt.com/event/4223
X-ALT-DESC;FMTTYPE=text/html:South West Kenda Enduro RD2 - Grogley Woods - more details: https://www.moredirt.com/event/4223
LOCATION:
END:VEVENT
END:VCALENDAR