BEGIN:VCALENDAR
VERSION:2.0
PRODID:-//MoreDirt v1.0//EN
BEGIN:VEVENT
DTSTAMP:20150730T130000Z
ORGANIZER;CN=South West Kenda Enduro:MAILTO:
STATUS:CONFIRMED
UID:MORESPORTSNETWORK4222
DTSTART:20201017T080000Z
DTEND:20201017T120000Z
SUMMARY:Gallos Downhill
DESCRIPTION:Gallos Downhill - more details: https://www.moredirt.com/event/4222
X-ALT-DESC;FMTTYPE=text/html:Gallos Downhill - more details: https://www.moredirt.com/event/4222
LOCATION:
END:VEVENT
END:VCALENDAR