BEGIN:VCALENDAR
VERSION:2.0
PRODID:-//MoreDirt v1.0//EN
BEGIN:VEVENT
DTSTAMP:20150730T130000Z
ORGANIZER;CN=Sportive Breaks:MAILTO:
STATUS:CONFIRMED
UID:MORESPORTSNETWORK4220
DTSTART:20210116T080000+0000
DTEND:20210116T120000+0000
SUMMARY:Pearson Inside Out Gravel Series - Winter Edition
DESCRIPTION:Pearson Inside Out Gravel Series - Winter Edition - more details: https://www.moredirt.com/event/4220
X-ALT-DESC;FMTTYPE=text/html:Pearson Inside Out Gravel Series - Winter Edition - more details: https://www.moredirt.com/event/4220
LOCATION:
END:VEVENT
END:VCALENDAR